BEGIN:VCALENDAR
VERSION:2.0
PRODID:-//Précrisa - ECPv6.15.16//NONSGML v1.0//EN
CALSCALE:GREGORIAN
METHOD:PUBLISH
X-ORIGINAL-URL:https://precrisa.ca/en
X-WR-CALDESC:Events for Précrisa
REFRESH-INTERVAL;VALUE=DURATION:PT1H
X-Robots-Tag:noindex
X-PUBLISHED-TTL:PT1H
BEGIN:VTIMEZONE
TZID:America/Halifax
BEGIN:DAYLIGHT
TZOFFSETFROM:-0400
TZOFFSETTO:-0300
TZNAME:ADT
DTSTART:20250309T060000
END:DAYLIGHT
BEGIN:STANDARD
TZOFFSETFROM:-0300
TZOFFSETTO:-0400
TZNAME:AST
DTSTART:20251102T050000
END:STANDARD
BEGIN:DAYLIGHT
TZOFFSETFROM:-0400
TZOFFSETTO:-0300
TZNAME:ADT
DTSTART:20260308T060000
END:DAYLIGHT
BEGIN:STANDARD
TZOFFSETFROM:-0300
TZOFFSETTO:-0400
TZNAME:AST
DTSTART:20261101T050000
END:STANDARD
BEGIN:DAYLIGHT
TZOFFSETFROM:-0400
TZOFFSETTO:-0300
TZNAME:ADT
DTSTART:20270314T060000
END:DAYLIGHT
BEGIN:STANDARD
TZOFFSETFROM:-0300
TZOFFSETTO:-0400
TZNAME:AST
DTSTART:20271107T050000
END:STANDARD
END:VTIMEZONE
BEGIN:VEVENT
DTSTART;TZID=America/Halifax:20260512T103000
DTEND;TZID=America/Halifax:20260512T120000
DTSTAMP:20260420T102401
CREATED:20260325T152720Z
LAST-MODIFIED:20260325T152720Z
UID:5305-1778581800-1778587200@precrisa.ca
SUMMARY:Webinaire | Regards croisés sur la gestion de crise : Le CrisisLab de Sciences Po et l’innovation par l'expérimentation
DESCRIPTION:L’axe Confiance\, savoirs et engagement du réseau Précrisa vous convie à un webinaire consacré à la gestion de crise\, placé sous le thème Regards croisés sur la gestion de crise : le CrisisLab de Sciences Po et l’innovation par l’expérimentation. Ce webinaire propose un échange approfondi autour des approches de recherche et d’expérimentation développées au CrisisLab de Sciences Po à Paris\, dirigé par le sociologue Olivier Borraz. \nÀ partir d’exemples concrets issus de travaux portant sur les pandémies\, les risques environnementaux et les infrastructures critiques\, la discussion mettra en lumière la contribution des sciences sociales à la compréhension et à la préparation de la gestion des crises. Une attention particulière sera portée aux méthodes d’expérimentation ainsi qu’aux dynamiques de collaboration entre chercheurs et praticiens\, ouvrant la voie à une réflexion sur la transférabilité de ces approches dans le contexte québécois et au sein du réseau Précrisa. \nCe webinaire s’adresse autant aux membres du réseau Précrisa — incluant les membres étudiants — qu’à toute personne souhaitant enrichir sa pratique de recherche grâce à des méthodes concrètes issues de la sociologie des organisations appliquée aux crises. Une occasion privilégiée de découvrir des outils innovants et d’alimenter une réflexion collective sur les façons d’aborder les situations critiques.  \nConférencier \nOlivier Borraz : Directeur de recherche au Centre national de la recherche scientifique (CNRS)\, enseignant au Centre de sociologie des organisations (CSO) de Sciences Po à Paris et directeur du CrisisLab de Sciences Po \nAnimation \nAudrey L’Espérance : Professeure adjointe en gestion de la santé et des services sociaux à l’École nationale d’administration publique (ÉNAP) à Montréal\, directrice associée du RéSCits\, réseau de recherche sur les savoirs citoyens et les approches co-créatives et directrice associée de l’axe Confiance\, savoirs et engagement du réseau Précrisa \nDétails du programme \n\nDate : 12 mai 2026\nHeure : 10 h 30 à 12 h 00 (HNE)\nFormat : En ligne\nLien d’inscription (obligatoire):  enap.zoom.us/webinar/register/WN_xOYIcv2lRySI4bF1_j4J2g\n\n\nÀ propos du conférencier \nOlivier Borraz a étudié la gouvernance des risques\, dans un premier temps en santé environnementale puis plus largement comme instrument de régulation dans différents domaines d’action publique\, dans une approche comparative européenne. Plus récemment\, ses recherches se sont tournées vers la manière dont l’État s’organise et se prépare à gérer des crises de toute nature\, puis les gère effectivement lorsqu’elles surviennent\, avec des études dans le domaine de la production nucléaire\, des alertes volcaniques\, des pandémies et de l’eau. En mai 2023\, Olivier Borraz fonde le CrisisLab\, un espace de recherche\, de formation et d’expérimentation en sciences humaines et sociales consacré à l’adaptation aux situations de crise. Son objectif est d’organiser des échanges entre chercheurs et praticiens sur ce sujet.
URL:https://precrisa.ca/en/evenement/webinaire-regards-croises-sur-la-gestion-de-crise-le-crisislab-de-sciences-po-et-linnovation-par-lexperimentation/
LOCATION:En ligne
ATTACH;FMTTYPE=image/jpeg:https://precrisa.ca/wp-content/uploads/2026/03/Webinaire-Regards-croises-sur-la-gestion-de-crise.jpg
END:VEVENT
BEGIN:VEVENT
DTSTART;TZID=America/Halifax:20260520T103000
DTEND;TZID=America/Halifax:20260520T123000
DTSTAMP:20260420T102402
CREATED:20260414T194724Z
LAST-MODIFIED:20260414T194724Z
UID:5349-1779273000-1779280200@precrisa.ca
SUMMARY:Webinaire Précrisa - Apprendre de l’Organisation mondiale de la Santé: renforcer la préparation aux pandémies par l’expérience\, les données et l’innovation 
DESCRIPTION:L’axe Systèmes de santé du Réseau Précrisa vous convie à un webinaire stratégique\, le 20 mai 2026\, consacré aux enseignements tirés de l’expérience de l’Organisation mondiale de la Santé (OMS) en matière de préparation et de réponse aux pandémies. \nCe webinaire s’adresse aux membres du Réseau Précrisa\, aux chercheur·e·s en santé mondiale et en systèmes de santé\, aux professionnel·le·s de santé publique ainsi qu’aux décideur·se·s et partenaires. \nGrâce à la participation d’expert·e·s de l’OMS – Région africaine (AFRO)\, il offrira une occasion privilégiée d’approfondir la compréhension de la mise en œuvre opérationnelle des stratégies de l’OMS\, à travers des leçons concrètes issues du terrain en matière de préparation et de réponse. Les échanges mettront également en lumière des exemples d’innovations\, notamment en intelligence artificielle\, en communication des risques et engagement communautaire ainsi qu’en vaccination en situation d’urgence\, avec un accent sur leur applicabilité dans divers contextes. \nEn s’appuyant sur ces échanges et retours d’expérience\, ce webinaire vise à favoriser l’alignement des activités de recherche\, des politiques publiques et des interventions du Réseau Précrisa et des partenaires\, avec les priorités mondiales en matière de préparation et de résilience face aux pandémies. \nObjectifs d’apprentissage \nÀ la fin de ce webinaire\, les participant·e·s seront en mesure de : \n\nMieux connaître les principales interventions de l’OMS en matière de préparation aux pandémies ;\nExtraire des leçons apprises à partir de l’expérience opérationnelle de l’OMS dans différents contextes ;\nApprofondir la compréhension des cadres\, mécanismes et outils mobilisés par l’OMS ;\nFavoriser la mobilisation des connaissances en identifiant comment ces enseignements peuvent orienter les recherches\, les politiques et les pratiques.\n\n\nIntervenant·e·s \nDr Dick Chamla\, responsable de la préparation aux urgences et Coordonnateur du Hub d’urgence\, OMS AFR.\nLe Dr Chamla dirige le portefeuille de préparation aux urgences de l’OMS AFRO\, incluant la mise en œuvre du Règlement Sanitaire International (RSI)\, les plans nationaux de sécurité sanitaire (NAPHS) et les initiatives du Pandemic Fund. Fort de plus de 27 ans d’expérience en contextes complexes\, il apportera des éclairages stratégiques sur ce qui fonctionne pour renforcer les capacités nationales de préparation. \nIsaias Fernandes Co\, spécialiste en apprentissage automatique\, OMS AFRO.\nFernandes Co travaille à l’intégration de l’intelligence artificielle et de l’analyse de données dans les systèmes de préparation. Il partagera des leçons clés sur l’utilisation des données et outils numériques pour améliorer l’alerte précoce et la prise de décision en situation d’urgence sanitaire. \nDr Julienne N. Anoko\, responsable RCCE (Communication des risques et engagement communautaire)\, OMS AFRO.\nSocio-anthropologue de renom\, Dr Anoko démontre depuis plus de 20 ans l’importance des dimensions socioculturelles dans la gestion des épidémies. Elle apportera des enseignements essentiels sur l’engagement communautaire\, la confiance et l’adaptation des interventions aux contextes locaux. \nDr Reena H. Doshi\, responsable de la vaccination en situation d’urgence\, OMS AFRO.\nÉpidémiologiste expérimentée\, Dr Doshi met en œuvre des stratégies de vaccination pour des maladies à potentiel épidémique (Ebola\, choléra\, COVID-19\, etc.). Elle partagera des expériences concrètes sur le rôle de la vaccination comme pilier central de la préparation et de la réponse aux pandémies. \nAnimation \nDr Patrick Archambault\, codirecteur de l’axe Systèmes de santé du Précrisa\, chercheur clinicien du Centre de recherche du CISSS Chaudière-Appalaches\, professeur titulaire au Département de médecine familiale et médecine d’urgence et au Département d’anesthésiologie et de soins intensifs de l’Université Laval. \nInformations pratiques \n\nDate : 20 mai 2026\n\n\nHeure : 10h30 à 12h00 (heure de l’Est – Canada)\n\n\nFormat : En ligne (Zoom)\n\n\nLangue : Français et Anglais\n\n\nLien d’inscription : uqar.zoom.us/webinar/register/WN_ADMkEDgoS0mk7wweOEf4cQ
URL:https://precrisa.ca/en/evenement/webinaire-precrisa-apprendre-de-lorganisation-mondiale-de-la-sante-renforcer-la-preparation-aux-pandemies-par-lexperience-les-donnees-et-linnovation/
LOCATION:En ligne
ATTACH;FMTTYPE=image/jpeg:https://precrisa.ca/wp-content/uploads/2026/04/Webinaire-Apprendre-de-lOrganisation-Mo-ndiale-de-la-Sante-OMS-renforcer-la-preparation-aux-pandemies-par-lexperience-les-donnees-et-linnovation.jpg
END:VEVENT
BEGIN:VEVENT
DTSTART;TZID=America/Halifax:20260529T100000
DTEND;TZID=America/Halifax:20260529T180000
DTSTAMP:20260420T102402
CREATED:20260223T170606Z
LAST-MODIFIED:20260330T213005Z
UID:5212-1780048800-1780077600@precrisa.ca
SUMMARY:Symposium annuel du Précrisa – 2e édition à Lévis
DESCRIPTION:Le Précrisa vous convie à la 2e édition de son symposium annuel. Cette journée rassembleuse qui se tiendra à Lévis le 29 mai 2026 sera l’occasion de réunir la communauté du réseau autour d’échanges\, de réflexions et de collaborations structurantes. \nUn monde sous tension : la recherche en action !\nAu croisement des bouleversements climatiques\, des tensions géopolitiques\, de la pression croissante sur les ressources naturelles et de l’érosion de la confiance du public\, une question centrale s’impose : comment mobiliser la recherche et en tirer pleinement parti pour mieux faire face à ces transformations profondes ? \nÀ travers une simulation immersive\, ce symposium explorera les répercussions de ces bouleversements sur les écosystèmes\, les systèmes de santé et de services sociaux ainsi que la santé et le bien-être des individus et des communautés. Des enjeux concrets liés à la gouvernance\, à la confiance et à la mobilisation de savoirs variés et de données complexes seront explorés. \nS’inscrivant dans une perspective intersectorielle et l’approche Une seule santé\, ce symposium proposera une réflexion collective ancrée dans les réalités vécues par les citoyens et les communautés. Il mettra en lumière les risques émergents\, les besoins persistants et les leviers essentiels pour renforcer la résilience collective. \nAu programme\n\nSimulation immersive\nAteliers participatifs\nDîner réseautage\nAssemblée générale annuelle des membres\nEt bien plus encore\n\n\nPourquoi participer ?\nCe symposium s’adresse aux chercheur·e·s\, citoyen·ne·s\, décideur·e·s\, étudiant·e·s et partenaires engagés dans la prévention des crises en santé. Il vise à : \n\nMobiliser le réseau et renforcer les synergies\, grâce à une démarche de coconstruction réunissant diverses parties prenantes ;\nValoriser les acquis et orienter les actions futures\, en s’appuyant sur l’intelligence collective ;\nFaire émerger les besoins\, les capacités à renforcer et les occasions de maillage en recherche sur la prévention et la préparation aux crises en santé.\n\n  \nInscrivez-vous dès maintenant →\nNous espérons vous y voir en grand nombre !\n  \n\nDétails de l’événement\nLieu : Université du Québec à Rimouski – Campus Lévis ; 1595 Bd. Alphonse-Desjardins\, Lévis\, QC\, G6V 0A6\nDate : 29 mai 2026\nHeure : 10h à 18h\nFormat : Présentiel (mesures d’accessibilité offertes sur demande) \nFrais d’inscription\n– Gratuit pour les membres du Précrisa\n– 90 $ pour les non-membres\nCafés\, collations et dîner inclus \nVous n’êtes pas encore membre du Précrisa ?\nL’adhésion est gratuite et vous permet de bénéficier de l’inscription sans frais au symposium. Pour devenir membre\, il vous suffit de remplir le formulaire à la page suivante : Je veux m’impliquer – Précrisa \nSoutien financier\nJusqu’à 15 bourses de 200 $ seront offertes par tirage au sort aux membres étudiants provenant de l’extérieur de la grande région de Québec\, afin de couvrir les frais de déplacement. \nInscription\nLien d’inscription : https://uqar.regfox.com/symposium-precrisa-2026 \nPour toute question : precrisa@uqar.ca \n\n\nInformations pratiques\nHébergement\nPlusieurs options d’hébergement sont situées à proximité de l’UQAR – Campus de Lévis (distances approximatives ) :\n– Four Points by Sheraton Lévis Convention Centre – ~ 2 km ; Tarif préférentiel applicable à un nombre limité de chambres\, selon disponibilité. Pour réserver: appeler au 418-838-0025\, en mentionnant l’entente de tarifs préférentiels avec l’UQAR ou en ligne via ce lien.\n– Quality Inn & Suites Lévis – ~ 2\,5 km\n– Comfort Inn Lévis – ~ 3\,5 km \nComment se rendre à l’UQAR – Campus de Lévis :\n\nEn voiture / covoiturage\nSi vous souhaitez proposer des places dans votre voiture ou cherchez une place\, inscrivez-vous ici : Covoiturage pour votre événement : Symposium Précrisa 2026\nAccès facile par les principaux axes routiers. Stationnements payants à proximité (13 $ / jour).\n\nEn autobus\nDes autocars relient plusieurs villes au Terminus de Lévis (notamment avec Orléans Express). Le campus de l’UQAR est situé à environ 1\,5 km du terminus.\n\nEn train\nGare VIA Rail de Charny. Correspondances possibles vers le campus en taxi (recommandation de vérifier les disponibilités et de réserver les taxis à l’avance). \nEn transport en commun\nPlusieurs lignes de la Société de transport de Lévis (STL) desservent le campus. Arrêts à quelques minutes de marche (voir stl.levis.ca).\n\nÀ pied ou à vélo\nCampus accessible à pied et à vélo. Supports à vélos disponibles.
URL:https://precrisa.ca/en/evenement/symposium-annuel-du-precrisa-2e-edition/
LOCATION:Université du Québec à Rimouski-Campus Lévis\, 1595 Bd Alphonse-Desjardins\, Lévis\, Québec\, G6V 0A6\, Canada
ATTACH;FMTTYPE=image/jpeg:https://precrisa.ca/wp-content/uploads/2026/02/Banniere-Symposium.jpg
END:VEVENT
END:VCALENDAR